BEGIN:VCALENDAR
VERSION:2.0
PRODID:-//Candace Mae Training and Services - ECPv6.15.16//NONSGML v1.0//EN
CALSCALE:GREGORIAN
METHOD:PUBLISH
X-WR-CALNAME:Candace Mae Training and Services
X-ORIGINAL-URL:https://candacemae.com
X-WR-CALDESC:Events for Candace Mae Training and Services
REFRESH-INTERVAL;VALUE=DURATION:PT1H
X-Robots-Tag:noindex
X-PUBLISHED-TTL:PT1H
BEGIN:VTIMEZONE
TZID:America/Los_Angeles
BEGIN:DAYLIGHT
TZOFFSETFROM:-0800
TZOFFSETTO:-0700
TZNAME:PDT
DTSTART:20180311T100000
END:DAYLIGHT
BEGIN:STANDARD
TZOFFSETFROM:-0700
TZOFFSETTO:-0800
TZNAME:PST
DTSTART:20181104T090000
END:STANDARD
BEGIN:DAYLIGHT
TZOFFSETFROM:-0800
TZOFFSETTO:-0700
TZNAME:PDT
DTSTART:20190310T100000
END:DAYLIGHT
BEGIN:STANDARD
TZOFFSETFROM:-0700
TZOFFSETTO:-0800
TZNAME:PST
DTSTART:20191103T090000
END:STANDARD
BEGIN:DAYLIGHT
TZOFFSETFROM:-0800
TZOFFSETTO:-0700
TZNAME:PDT
DTSTART:20200308T100000
END:DAYLIGHT
BEGIN:STANDARD
TZOFFSETFROM:-0700
TZOFFSETTO:-0800
TZNAME:PST
DTSTART:20201101T090000
END:STANDARD
BEGIN:DAYLIGHT
TZOFFSETFROM:-0800
TZOFFSETTO:-0700
TZNAME:PDT
DTSTART:20210314T100000
END:DAYLIGHT
BEGIN:STANDARD
TZOFFSETFROM:-0700
TZOFFSETTO:-0800
TZNAME:PST
DTSTART:20211107T090000
END:STANDARD
BEGIN:DAYLIGHT
TZOFFSETFROM:-0800
TZOFFSETTO:-0700
TZNAME:PDT
DTSTART:20220313T100000
END:DAYLIGHT
BEGIN:STANDARD
TZOFFSETFROM:-0700
TZOFFSETTO:-0800
TZNAME:PST
DTSTART:20221106T090000
END:STANDARD
BEGIN:DAYLIGHT
TZOFFSETFROM:-0800
TZOFFSETTO:-0700
TZNAME:PDT
DTSTART:20230312T100000
END:DAYLIGHT
BEGIN:STANDARD
TZOFFSETFROM:-0700
TZOFFSETTO:-0800
TZNAME:PST
DTSTART:20231105T090000
END:STANDARD
END:VTIMEZONE
BEGIN:VEVENT
DTSTART;VALUE=DATE:20220125
DTEND;VALUE=DATE:20220126
DTSTAMP:20260423T094159
CREATED:20220111T224819Z
LAST-MODIFIED:20220118T041018Z
UID:7688-1643068800-1643155199@candacemae.com
SUMMARY:Discipline - Podcast Interview hosted by Joey Pinz
DESCRIPTION:Discipline Conversation Podcast Interview hosted by Joey Pinz \nTopic: How do we use Discipline to grow & better ourselves & society?
URL:https://candacemae.com/event/discipline-podcast-interview-hosted-by-joey-pinz/
CATEGORIES:Online Event
ATTACH;FMTTYPE=image/jpeg:https://candacemae.com/wp-content/uploads/2022/01/Podcast-Interview_Jan.-26.jpg
END:VEVENT
BEGIN:VEVENT
DTSTART;VALUE=DATE:20220118
DTEND;VALUE=DATE:20220119
DTSTAMP:20260423T094159
CREATED:20220118T040202Z
LAST-MODIFIED:20220118T040334Z
UID:7694-1642464000-1642550399@candacemae.com
SUMMARY:Contagious Victories Podcast
DESCRIPTION:Contagious Victories Podcast: Hosted by Tori Blockman – record 1/18/22 \nTopic: Leadership begins with Self-Leadership: Your power to choose\, decide and take action.”  Also talking about Change & Burnout.”
URL:https://candacemae.com/event/contagious-victories-podcast/
CATEGORIES:Online Event
ATTACH;FMTTYPE=image/jpeg:https://candacemae.com/wp-content/uploads/2022/01/Contagious-Victories-.jpg
END:VEVENT
BEGIN:VEVENT
DTSTART;VALUE=DATE:20220115
DTEND;VALUE=DATE:20220116
DTSTAMP:20260423T094159
CREATED:20220118T042843Z
LAST-MODIFIED:20220118T042844Z
UID:7702-1642204800-1642291199@candacemae.com
SUMMARY:A Guide To Better Relationships
DESCRIPTION:Podcast Interview – A Guide To Better Relationships \nHosted by: Noreen Daley \nDate: February 15\, 2022
URL:https://candacemae.com/event/a-guide-to-better-relationships/
CATEGORIES:Online Event
ATTACH;FMTTYPE=image/jpeg:https://candacemae.com/wp-content/uploads/2022/01/A-Guide-To-Better-Relationships-.jpg
ORGANIZER;CN="Noreen Daley":MAILTO:noreen@noreendaley.com
END:VEVENT
BEGIN:VEVENT
DTSTART;VALUE=DATE:20220104
DTEND;VALUE=DATE:20220130
DTSTAMP:20260423T094159
CREATED:20211213T015205Z
LAST-MODIFIED:20211222T003420Z
UID:7430-1641254400-1643500799@candacemae.com
SUMMARY:Overcomers Overcoming SERIES hosted by Ron & Marty Cooper (Airing in Jan 2022)
DESCRIPTION:Overcomers Overcoming Series hosted by Ron & Marty Cooper \nEpisode 1 – Overcoming Several Life Traumas | Release Date: 01/20/2022 \nEpisode 2 – Forgiveness | Release Date: 03/03/2022 \nListen here: \nListen to Podcast
URL:https://candacemae.com/event/overcomers-overcoming-series-hosted-by-ron-marcy-cooper-airing-in-jan-2022/
ATTACH;FMTTYPE=image/jpeg:https://candacemae.com/wp-content/uploads/2021/12/Podcast-Interview_Graphic.jpg
END:VEVENT
BEGIN:VEVENT
DTSTART;VALUE=DATE:20211220
DTEND;VALUE=DATE:20211221
DTSTAMP:20260423T094159
CREATED:20211211T034048Z
LAST-MODIFIED:20211221T065201Z
UID:7412-1639958400-1640044799@candacemae.com
SUMMARY:Podcast - Cracking the Cash Flow Code with Josh Patrick
DESCRIPTION:Podcast – Cracking the Cash Flow Code with Josh Patrick \n\n\n\n\nJoin Josh Patrick and me as we discuss the importance of values in the workplace\, and leading with love for greater impact!\nDeveloping Leadership that CARES through Communication\, Attitude\, Relationships\, Equipping staff\, and Sales training.\n\n\n#leadershipcoaching #communication #training #leadership #sales #CandaceMae #teamdevelopment\n\n\n\n\nFind it here:\n\nhttps://candacemae.com/listen-to-podcast/\n\nhttps://www.facebook.com/sustainablebusiness.co/videos/309118607776483\n\nhttps://www.linkedin.com/posts/candacemaegruber_were-talking-with-candace-may-gruber-today-activity-6878814289742852098-pZym
URL:https://candacemae.com/event/podcast-cracking-the-cash-flow-code-with-josh-patrick/
CATEGORIES:Online Event
ATTACH;FMTTYPE=image/jpeg:https://candacemae.com/wp-content/uploads/2021/12/Podcast-Interview-1.jpg
END:VEVENT
BEGIN:VEVENT
DTSTART;VALUE=DATE:20211208
DTEND;VALUE=DATE:20211209
DTSTAMP:20260423T094159
CREATED:20211213T024228Z
LAST-MODIFIED:20211213T024228Z
UID:7434-1638921600-1639007999@candacemae.com
SUMMARY:Evolve Podcast hosted by Yvette Bethel (recorded December 8\, 2021)
DESCRIPTION:Evolve Podcast hosted by Yvette Bethel (recorded December 8\, 2021)
URL:https://candacemae.com/event/evolve-podcast-hosted-by-yvette-bethel-recorded-december-8-2021/
ATTACH;FMTTYPE=image/jpeg:https://candacemae.com/wp-content/uploads/2021/12/Evolve-1.jpg
END:VEVENT
BEGIN:VEVENT
DTSTART;VALUE=DATE:20211124
DTEND;VALUE=DATE:20211125
DTSTAMP:20260423T094159
CREATED:20211213T040331Z
LAST-MODIFIED:20211213T040605Z
UID:7439-1637712000-1637798399@candacemae.com
SUMMARY:Leadership & Success Podcast Episode #17: Live with Candace Mae hosted by Bob Fabien (BZ) Zinga - November 24\, 2021
DESCRIPTION:Leadership & Success Podcast Episode #17: Live with Candace Mae hosted by Bob Fabien (BZ) Zinga – November 24\, 2021 \n \n 
URL:https://candacemae.com/event/leadership-success-podcast-episode-17-live-with-candace-mae-hosted-by-bob-fabien-bz-zinga-november-24-2021/
ATTACH;FMTTYPE=image/jpeg:https://candacemae.com/wp-content/uploads/2021/12/Podcast-Interview_Graphic-1-1.jpg
END:VEVENT
BEGIN:VEVENT
DTSTART;TZID=America/Los_Angeles:20211123T180000
DTEND;TZID=America/Los_Angeles:20211123T193000
DTSTAMP:20260423T094159
CREATED:20211111T114240Z
LAST-MODIFIED:20211111T233124Z
UID:7106-1637690400-1637695800@candacemae.com
SUMMARY:15 Laws of Growth Mastermind is 5-WEEKS on TUESDAYS\, ending Dec 21st
DESCRIPTION:“If we’re growing\, we’re always going to be out of our comfort zone.” -John Maxwell \nPlease accept my personal invitation to an exclusive Mastermind starting on November 23\, 2021 at 6:00 PM PST to help push you toward a future where you’ll finally overcome your fears of failure and reach your full potential. \nDuring this experience\, we’ll mastermind the book The 15 Invaluable Laws of Growth by John Maxwell. In this 5-week\, in-depth process\, you’ll join forces with a unique group of hand-selected\, like-minded individuals who are serious about growing both personally and professionally. I know that having the support and ideas of other ambitious people will allow you to gain a new perspective on all the ways YOU can grow toward a better\, more confident version of yourself\, too. \nThink of this experience as a long-distance classroom. Each week\, we’ll be meeting at the same time to discuss the materials we’ve covered and chat about what we’ve learned from the chapters that were assigned. These meetings bring to life all of the ideas that are circulating in your mind and help lay a foundation for your success. \nI offer this Mastermind exclusive to you as an individual who appreciates and values the importance of personal growth and its connection to professional progress and happiness down the line. Included with the mastermind sessions\, is the book\, The 15 Invaluable Laws of Growth\, along with a participant\, downloadable workbook. This is a valuable book that you’ll use as an ongoing resource beyond the 5-weeks. \nClick here for more information and to reserve your seat right now: \ncandacemae.leadingthebest.com/FINM0001 \nCandace Mae Gruber \nJohn Maxwell Certified Coach \n 
URL:https://candacemae.com/event/the-15-invaluable-laws-of-growth-mastermind/
CATEGORIES:Online Event
ATTACH;FMTTYPE=image/jpeg:https://candacemae.com/wp-content/uploads/2021/11/JMT-Banner-Campaign-1.jpg
END:VEVENT
BEGIN:VEVENT
DTSTART;TZID=America/Los_Angeles:20211115T080000
DTEND;TZID=America/Los_Angeles:20211119T160000
DTSTAMP:20260423T094159
CREATED:20211111T104932Z
LAST-MODIFIED:20211111T233729Z
UID:7098-1636963200-1637337600@candacemae.com
SUMMARY:Business Builders Breakthrough Free Online Event
DESCRIPTION:Register today to get the BREAKTHROUGH you have been waiting for in your business!\n\nHurry\, Hurry\, Hurry\, this is only FREE during launch\, register today and hear from the industry’s top leading experts with over $5\,000 in FREE GIFTS!  Checklists\, Strategies\, Tips\, and more to help you get YOUR breakthrough!\n\nHere is what you will learn:\n\nFive pillars of creating financial freedom!\nHow to grow your email list with stories!\nBuild an audience that buys from you!\nFortifying your business to scale!\nTurn your Instagram following into clients\nLive your Big Life!\n3 keys to set yourself up for success!\nHow to grow a profitable Facebook group!\nTips and strategies to overcome procrastination!\nHow to hush the inner bully!\nPersonal growth and why it matters!\n\nAll of this and more with a special SURPRISE GUEST YOU DO NOT WANT TO MISS!\n\nIf you’re wondering how these experts are doing it\, then this is for you!\n\nIs it your desire to work from home and create an income that you choose?\nIs it your desire to take that vacation when you decide?\nAre you wanting to quit the 9 to 5 and be your own boss?\nAre you looking to monetize the business you already have?\n\nIf you answered yes to any of these questions then this is for you!\nFeel that feeling of waking up and being excited to do what you love!\n\nThese experts are here for you!\n\nRegister today and claim your FREE seat!  You will be glad you did!\nhttps://sandee-englund.mykajabi.com/a/2147499260/5ojjHoF2\nCandace Mae Gruber\nC.E.O | Business and Leadership Consultant\n\n\nP.S.  You can do it!  This online event will give you the tools to create the life you want!
URL:https://candacemae.com/event/7098/
CATEGORIES:Online Event
ATTACH;FMTTYPE=image/png:https://candacemae.com/wp-content/uploads/2021/11/Business-Breakthrough-Summit_CMG-1-1.png
END:VEVENT
BEGIN:VEVENT
DTSTART;TZID=America/Los_Angeles:20211113T053000
DTEND;TZID=America/Los_Angeles:20211113T083000
DTSTAMP:20260423T094159
CREATED:20211111T070301Z
LAST-MODIFIED:20211111T071859Z
UID:7083-1636781400-1636792200@candacemae.com
SUMMARY:John Maxwell Invite-Only Live Session
DESCRIPTION:I’m so excited to share with you that on November 13\, 2021 at 5:30 am PST\, my mentor\, John Maxwell\, is going to be hosting a special private event where he’ll be discussing his teachings and philosophy about leadership\, influence\, and growth potential. \nIt’s invite-only\, and space is limited—I would love for you to be a part of this! If you’re interested in joining\, I’ve been given a special link that I’ll share at the bottom. \nI hope that you’ll consider being a part of this! \nSIGN UP LINK: https://candacemae.leadingthebest.com/GWJM0001
URL:https://candacemae.com/event/john-maxwell-invite-only-live-session/
CATEGORIES:Live Session
ATTACH;FMTTYPE=image/jpeg:https://candacemae.com/wp-content/uploads/2021/11/FB-Banner-for-JMT-Invite-Only-1.jpg
END:VEVENT
BEGIN:VEVENT
DTSTART;VALUE=DATE:20211108
DTEND;VALUE=DATE:20211111
DTSTAMP:20260423T094159
CREATED:20211203T055137Z
LAST-MODIFIED:20211203T055137Z
UID:7157-1636329600-1636588799@candacemae.com
SUMMARY:Building Wealth Together Summit with Conway Financial Group
DESCRIPTION:Join us FREE for 3-days of How to Build Wealth – Not just financially\, but the mindset\, and more!\nTHE MISSING LINK: Transform Your Energetic Presence – Which Drives Your Financial\, Spiritual\, Physical and Emotional Wealth.\n\nClick the link below to Sign-up:\nhttps://www.mysalesteamguru.com/summit-registration-buildingwealthtogether?fbclid=IwAR2CvpMhMRCvvk7yN7lZFGG3DRYKtEbQyluGyAwzpKS7rBkJsQGfkCYU-o0
URL:https://candacemae.com/event/building-wealth-together-summit-with-conway-financial-group/
ATTACH;FMTTYPE=image/jpeg:https://candacemae.com/wp-content/uploads/2021/12/VIDEO-INTRO-OUTRO-14.3-x-8-in-1.jpg
END:VEVENT
BEGIN:VEVENT
DTSTART;VALUE=DATE:20210722
DTEND;VALUE=DATE:20210723
DTSTAMP:20260423T094159
CREATED:20211213T042347Z
LAST-MODIFIED:20211213T214400Z
UID:7443-1626912000-1626998399@candacemae.com
SUMMARY:"Living A Better Story Podcast"
DESCRIPTION:Live A Better Story Podcast hosted by Chad Bermeister July 2021 \nYou can find it here: \nListen to Podcast \n \n  \n  \n 
URL:https://candacemae.com/event/living-a-better-story-podcast/
ATTACH;FMTTYPE=image/jpeg:https://candacemae.com/wp-content/uploads/2021/12/Podcast-Interview_Graphic-2-1.jpg
END:VEVENT
BEGIN:VEVENT
DTSTART;VALUE=DATE:20210323
DTEND;VALUE=DATE:20210324
DTSTAMP:20260423T094159
CREATED:20211213T044938Z
LAST-MODIFIED:20211213T051036Z
UID:7447-1616457600-1616543999@candacemae.com
SUMMARY:All In Podcast "Miracle in the Middle " hosted by JCCEOS
DESCRIPTION:All In Podcast “Miracle in the Middle ” hosted by Mike Orion of JCCEOS \nYou can find it here: \nPodcast – A Miracle in the Middle of Transition \n \n 
URL:https://candacemae.com/event/all-in-podcast-miracle-in-the-middle-hosted-by-jcceos/
CATEGORIES:Online Event
ATTACH;FMTTYPE=image/jpeg:https://candacemae.com/wp-content/uploads/2021/12/Podcast-Interview_Graphic-1-2.jpg
END:VEVENT
BEGIN:VEVENT
DTSTART;VALUE=DATE:20200907
DTEND;VALUE=DATE:20200908
DTSTAMP:20260423T094200
CREATED:20211213T051809Z
LAST-MODIFIED:20211213T051809Z
UID:7454-1599436800-1599523199@candacemae.com
SUMMARY:Community 4 Unity hosted by Rosalyn Kahn September 7\, 2020
DESCRIPTION:Community 4 Unity hosted by Rosalyn Kahn September 7\, 2020 \nYou can find it here: \nListen to Podcast \n \n 
URL:https://candacemae.com/event/community-4-unity-hosted-by-rosalyn-kahn-september-7-2020/
ATTACH;FMTTYPE=image/jpeg:https://candacemae.com/wp-content/uploads/2021/12/Community-4-Unity-1.jpg
END:VEVENT
BEGIN:VEVENT
DTSTART;VALUE=DATE:20200706
DTEND;VALUE=DATE:20200707
DTSTAMP:20260423T094200
CREATED:20211213T052640Z
LAST-MODIFIED:20211213T052844Z
UID:7458-1593993600-1594079999@candacemae.com
SUMMARY:Candace Mae Talk of the Town hosted by George Preston July 6\, 2020
DESCRIPTION:Candace Mae Talk of the Town hosted by George Preston July 6\, 2020 \nYou can find it here: \nListen to Podcast
URL:https://candacemae.com/event/candace-mae-talk-of-the-town-hosted-by-george-preston-july-6-2020/
CATEGORIES:Online Event
ATTACH;FMTTYPE=image/jpeg:https://candacemae.com/wp-content/uploads/2021/12/Talk-of-the-Town-1.jpg
END:VEVENT
BEGIN:VEVENT
DTSTART;VALUE=DATE:20200429
DTEND;VALUE=DATE:20200430
DTSTAMP:20260423T094200
CREATED:20211213T053534Z
LAST-MODIFIED:20211213T054702Z
UID:7461-1588118400-1588204799@candacemae.com
SUMMARY:Sound Healing Interview hosted by Ruth Ratliff April 29\, 2020
DESCRIPTION:Sound Healing Interview hosted by Ruth Ratliff April 29\, 2020 \nYou can find it here: \nListen to Podcast
URL:https://candacemae.com/event/sound-healing-interview-hosted-by-ruth-ratliff-april-29-2020/
CATEGORIES:Online Event
ATTACH;FMTTYPE=image/jpeg:https://candacemae.com/wp-content/uploads/2021/12/Podcast-Interview_Graphic-1-3.jpg
END:VEVENT
BEGIN:VEVENT
DTSTART;VALUE=DATE:20190604
DTEND;VALUE=DATE:20190605
DTSTAMP:20260423T094200
CREATED:20211213T055311Z
LAST-MODIFIED:20211213T055311Z
UID:7465-1559606400-1559692799@candacemae.com
SUMMARY:Cannoli Coach Podcast June 2019
DESCRIPTION:Cannoli Coach Podcast June 2019 \nYou can find it here: \nListen to Podcast
URL:https://candacemae.com/event/cannoli-coach-podcast-june-2019/
CATEGORIES:Online Event
ATTACH;FMTTYPE=image/jpeg:https://candacemae.com/wp-content/uploads/2021/12/Podcast-Interview_Graphic-2-1-1.jpg
END:VEVENT
END:VCALENDAR