BEGIN:VCALENDAR
VERSION:2.0
PRODID:-//Candace Mae Training and Services - ECPv6.15.16//NONSGML v1.0//EN
CALSCALE:GREGORIAN
METHOD:PUBLISH
X-WR-CALNAME:Candace Mae Training and Services
X-ORIGINAL-URL:https://candacemae.com
X-WR-CALDESC:Events for Candace Mae Training and Services
REFRESH-INTERVAL;VALUE=DURATION:PT1H
X-Robots-Tag:noindex
X-PUBLISHED-TTL:PT1H
BEGIN:VTIMEZONE
TZID:America/Los_Angeles
BEGIN:DAYLIGHT
TZOFFSETFROM:-0800
TZOFFSETTO:-0700
TZNAME:PDT
DTSTART:20180311T100000
END:DAYLIGHT
BEGIN:STANDARD
TZOFFSETFROM:-0700
TZOFFSETTO:-0800
TZNAME:PST
DTSTART:20181104T090000
END:STANDARD
BEGIN:DAYLIGHT
TZOFFSETFROM:-0800
TZOFFSETTO:-0700
TZNAME:PDT
DTSTART:20190310T100000
END:DAYLIGHT
BEGIN:STANDARD
TZOFFSETFROM:-0700
TZOFFSETTO:-0800
TZNAME:PST
DTSTART:20191103T090000
END:STANDARD
BEGIN:DAYLIGHT
TZOFFSETFROM:-0800
TZOFFSETTO:-0700
TZNAME:PDT
DTSTART:20200308T100000
END:DAYLIGHT
BEGIN:STANDARD
TZOFFSETFROM:-0700
TZOFFSETTO:-0800
TZNAME:PST
DTSTART:20201101T090000
END:STANDARD
BEGIN:DAYLIGHT
TZOFFSETFROM:-0800
TZOFFSETTO:-0700
TZNAME:PDT
DTSTART:20210314T100000
END:DAYLIGHT
BEGIN:STANDARD
TZOFFSETFROM:-0700
TZOFFSETTO:-0800
TZNAME:PST
DTSTART:20211107T090000
END:STANDARD
BEGIN:DAYLIGHT
TZOFFSETFROM:-0800
TZOFFSETTO:-0700
TZNAME:PDT
DTSTART:20220313T100000
END:DAYLIGHT
BEGIN:STANDARD
TZOFFSETFROM:-0700
TZOFFSETTO:-0800
TZNAME:PST
DTSTART:20221106T090000
END:STANDARD
END:VTIMEZONE
BEGIN:VEVENT
DTSTART;VALUE=DATE:20210323
DTEND;VALUE=DATE:20210324
DTSTAMP:20260423T110246
CREATED:20211213T044938Z
LAST-MODIFIED:20211213T051036Z
UID:7447-1616457600-1616543999@candacemae.com
SUMMARY:All In Podcast "Miracle in the Middle " hosted by JCCEOS
DESCRIPTION:All In Podcast “Miracle in the Middle ” hosted by Mike Orion of JCCEOS \nYou can find it here: \nPodcast – A Miracle in the Middle of Transition \n \n 
URL:https://candacemae.com/event/all-in-podcast-miracle-in-the-middle-hosted-by-jcceos/
CATEGORIES:Online Event
ATTACH;FMTTYPE=image/jpeg:https://candacemae.com/wp-content/uploads/2021/12/Podcast-Interview_Graphic-1-2.jpg
END:VEVENT
BEGIN:VEVENT
DTSTART;VALUE=DATE:20200907
DTEND;VALUE=DATE:20200908
DTSTAMP:20260423T110246
CREATED:20211213T051809Z
LAST-MODIFIED:20211213T051809Z
UID:7454-1599436800-1599523199@candacemae.com
SUMMARY:Community 4 Unity hosted by Rosalyn Kahn September 7\, 2020
DESCRIPTION:Community 4 Unity hosted by Rosalyn Kahn September 7\, 2020 \nYou can find it here: \nListen to Podcast \n \n 
URL:https://candacemae.com/event/community-4-unity-hosted-by-rosalyn-kahn-september-7-2020/
ATTACH;FMTTYPE=image/jpeg:https://candacemae.com/wp-content/uploads/2021/12/Community-4-Unity-1.jpg
END:VEVENT
BEGIN:VEVENT
DTSTART;VALUE=DATE:20200706
DTEND;VALUE=DATE:20200707
DTSTAMP:20260423T110246
CREATED:20211213T052640Z
LAST-MODIFIED:20211213T052844Z
UID:7458-1593993600-1594079999@candacemae.com
SUMMARY:Candace Mae Talk of the Town hosted by George Preston July 6\, 2020
DESCRIPTION:Candace Mae Talk of the Town hosted by George Preston July 6\, 2020 \nYou can find it here: \nListen to Podcast
URL:https://candacemae.com/event/candace-mae-talk-of-the-town-hosted-by-george-preston-july-6-2020/
CATEGORIES:Online Event
ATTACH;FMTTYPE=image/jpeg:https://candacemae.com/wp-content/uploads/2021/12/Talk-of-the-Town-1.jpg
END:VEVENT
BEGIN:VEVENT
DTSTART;VALUE=DATE:20200429
DTEND;VALUE=DATE:20200430
DTSTAMP:20260423T110246
CREATED:20211213T053534Z
LAST-MODIFIED:20211213T054702Z
UID:7461-1588118400-1588204799@candacemae.com
SUMMARY:Sound Healing Interview hosted by Ruth Ratliff April 29\, 2020
DESCRIPTION:Sound Healing Interview hosted by Ruth Ratliff April 29\, 2020 \nYou can find it here: \nListen to Podcast
URL:https://candacemae.com/event/sound-healing-interview-hosted-by-ruth-ratliff-april-29-2020/
CATEGORIES:Online Event
ATTACH;FMTTYPE=image/jpeg:https://candacemae.com/wp-content/uploads/2021/12/Podcast-Interview_Graphic-1-3.jpg
END:VEVENT
BEGIN:VEVENT
DTSTART;VALUE=DATE:20190604
DTEND;VALUE=DATE:20190605
DTSTAMP:20260423T110246
CREATED:20211213T055311Z
LAST-MODIFIED:20211213T055311Z
UID:7465-1559606400-1559692799@candacemae.com
SUMMARY:Cannoli Coach Podcast June 2019
DESCRIPTION:Cannoli Coach Podcast June 2019 \nYou can find it here: \nListen to Podcast
URL:https://candacemae.com/event/cannoli-coach-podcast-june-2019/
CATEGORIES:Online Event
ATTACH;FMTTYPE=image/jpeg:https://candacemae.com/wp-content/uploads/2021/12/Podcast-Interview_Graphic-2-1-1.jpg
END:VEVENT
END:VCALENDAR